BEGIN:VCALENDAR
VERSION:2.0
PRODID:gruene-dransfeld.de
METHOD:PUBLISH
BEGIN:VTIMEZONE
TZID:Europe/Berlin
X-LIC-LOCATION:Europe/Berlin
BEGIN:DAYLIGHT
TZOFFSETFROM:+0100
TZOFFSETTO:+0200
TZNAME:CEST
DTSTART:19700329T020000
RRULE:FREQ=YEARLY;INTERVAL=1;BYDAY=-1SU;BYMONTH=3
END:DAYLIGHT
BEGIN:STANDARD
TZOFFSETFROM:+0200
TZOFFSETTO:+0100
TZNAME:CET
DTSTART:19701025T030000
RRULE:FREQ=YEARLY;INTERVAL=1;BYDAY=-1SU;BYMONTH=10
END:STANDARD
END:VTIMEZONE
BEGIN:VEVENT
UID:3d012d86dd7ecabb53f5060e82f180b6@gruene-dransfeld.de
URL;VALUE=URI:https://gruene-dransfeld.de/termine/erweiterter-kreisvorsta
 nd-online-3/
LOCATION:
SUMMARY:Erweiterter Kreisvorstand (online)
DESCRIPTION;ALTREP="data:text/html,":
CLASS:PUBLIC
DTSTART;TZID=Europe/Berlin:20261001
DTEND;TZID=Europe/Berlin:20261002
DTSTAMP:20260421T103059
END:VEVENT
END:VCALENDAR