BEGIN:VCALENDAR
VERSION:2.0
PRODID:gruene-dransfeld.de
METHOD:PUBLISH
BEGIN:VTIMEZONE
TZID:Europe/Berlin
X-LIC-LOCATION:Europe/Berlin
BEGIN:DAYLIGHT
TZOFFSETFROM:+0100
TZOFFSETTO:+0200
TZNAME:CEST
DTSTART:19700329T020000
RRULE:FREQ=YEARLY;INTERVAL=1;BYDAY=-1SU;BYMONTH=3
END:DAYLIGHT
BEGIN:STANDARD
TZOFFSETFROM:+0200
TZOFFSETTO:+0100
TZNAME:CET
DTSTART:19701025T030000
RRULE:FREQ=YEARLY;INTERVAL=1;BYDAY=-1SU;BYMONTH=10
END:STANDARD
END:VTIMEZONE
BEGIN:VEVENT
UID:9d94dc1f8ca9ff8ee1d6e8ea3d189692@gruene-dransfeld.de
URL;VALUE=URI:https://gruene-dransfeld.de/termine/gruenes-treffen-24/
LOCATION:Rathaus, Mehrzweckraum, Dransfeld
SUMMARY:Grünes Treffen
DESCRIPTION;ALTREP="data:text/html,%0A%3Cp%3EMitgliederversammlung%C2%A0S
 amtgemeindeverband%20B%C3%BCndnis%2090%2FDie%20Gr%C3%BCnen%3C%2Fp%3E%0A":
 Mitgliederversammlung Samtgemeindeverband Bündnis 90/Die Grünen
CLASS:PUBLIC
DTSTART;TZID=Europe/Berlin:20260618T180000
DTEND;TZID=Europe/Berlin:20260618T200000
DTSTAMP:20260421T103234
END:VEVENT
END:VCALENDAR